BEGIN:VCALENDAR
VERSION:2.0
PRODID:icalendar-ruby
CALSCALE:GREGORIAN
METHOD:PUBLISH
BEGIN:VEVENT
DTSTAMP:20260423T195542Z
UID:18-1777325@friendlyavenue.com
DTSTART:20260914T000000Z
DTEND:20260914T010000Z
CLASS:PUBLIC
CREATED:20260423T113846
DESCRIPTION:Students participate in The Truth Project bible study. This is 
 a great opportunity to grow in your faith and build community. Led by Trey
  &amp\; Rachel Harrison\, Dan &amp\; AmyGrace Tetreault\, Matt &amp\; Kati
 e Shirtz\, and Adam Shirtz.
LAST-MODIFIED:20260423T113846
LOCATION:Student Room
SUMMARY:FA Students - Sunday Nights
URL;VALUE=URI:https://www.friendlyavenue.com/events/fa-students-sunday-nigh
 ts/2026-09-13
ATTACH;FILENAME=students-logo-16x9png-01.png;FMTTYPE=image/png:https://dq5p
 wpg1q8ru0.cloudfront.net/2025/10/24/01/27/13/a86ea836-a372-4fb4-8f81-6ed34
 d3cd6ec/students-logo-16x9png-01.png
END:VEVENT
END:VCALENDAR
