BEGIN:VCALENDAR
VERSION:2.0
PRODID:icalendar-ruby
CALSCALE:GREGORIAN
METHOD:PUBLISH
BEGIN:VEVENT
DTSTAMP:20260423T071039Z
UID:17-1775118@friendlyavenue.com
DTSTART:20260809T225000Z
DTEND:20260809T235000Z
CLASS:PUBLIC
CREATED:20260422T201904
DESCRIPTION:Students meet for handbells and choir to learn new pieces\, pra
 ctice for upcoming events\, and grow spiritually through music.
LAST-MODIFIED:20260422T201904
LOCATION:
SUMMARY:Student Music
URL;VALUE=URI:https://www.friendlyavenue.com/events/student-music/2026-08-0
 9
ATTACH;FILENAME=students-logo-16x9png-01.png;FMTTYPE=image/png:https://dq5p
 wpg1q8ru0.cloudfront.net/2025/10/24/01/25/02/b1039985-91b7-4faf-ae20-ab3ab
 8859e92/students-logo-16x9png-01.png
END:VEVENT
END:VCALENDAR
