BEGIN:VCALENDAR
VERSION:2.0
PRODID:icalendar-ruby
CALSCALE:GREGORIAN
METHOD:PUBLISH
BEGIN:VEVENT
DTSTAMP:20260424T011046Z
UID:5-1778472@friendlyavenue.com
DTSTART:20260920T180000Z
DTEND:20260920T190000Z
CLASS:PUBLIC
CREATED:20260423T172609
DESCRIPTION:Sunday Worship
LAST-MODIFIED:20260423T172609
LOCATION:4800 West Friendly Avenue\, Greensboro\, NC 27410
SUMMARY:Sunday Worship
URL;VALUE=URI:https://www.friendlyavenue.com/events/sunday-worship/2026-09-
 20
END:VEVENT
END:VCALENDAR
