BEGIN:VCALENDAR
VERSION:2.0
PRODID:icalendar-ruby
CALSCALE:GREGORIAN
METHOD:PUBLISH
BEGIN:VEVENT
DTSTAMP:20260424T052344Z
UID:5-1779192@friendlyavenue.com
DTSTART:20261004T180000Z
DTEND:20261004T190000Z
CLASS:PUBLIC
CREATED:20260423T202055
DESCRIPTION:Sunday Worship
LAST-MODIFIED:20260423T202055
LOCATION:4800 West Friendly Avenue\, Greensboro\, NC 27410
SUMMARY:Sunday Worship
URL;VALUE=URI:https://www.friendlyavenue.com/events/sunday-worship/2026-10-
 04
END:VEVENT
END:VCALENDAR
