BEGIN:VCALENDAR
VERSION:2.0
PRODID:icalendar-ruby
CALSCALE:GREGORIAN
METHOD:PUBLISH
BEGIN:VEVENT
DTSTAMP:20260423T053040Z
UID:16-1775066@friendlyavenue.com
DTSTART:20260730T003000Z
DTEND:20260730T013000Z
CLASS:PUBLIC
CREATED:20260422T201904
DESCRIPTION:Share a weekly meal with your church family! Please be sure to 
 register for each week that you plan to attend. Dinner begins at 5:30 and 
 will be served until 6:00. There's no pressure to arrive right when dinner
  begins!
LAST-MODIFIED:20260422T201904
LOCATION:Fellowship Hall
SUMMARY:Wednesday Dinner
URL;VALUE=URI:https://www.friendlyavenue.com/events/wednesday-dinner/2026-0
 7-29
ATTACH;FILENAME=12660354_2692x1505_500.png;FMTTYPE=image/png:https://dq5pwp
 g1q8ru0.cloudfront.net/2025/10/24/00/56/23/e6124ee3-a81d-4aed-bcfb-d528ddd
 e38fe/12660354_2692x1505_500.png
END:VEVENT
END:VCALENDAR
