BEGIN:VCALENDAR
VERSION:2.0
PRODID:icalendar-ruby
CALSCALE:GREGORIAN
METHOD:PUBLISH
BEGIN:VEVENT
DTSTAMP:20260423T052948Z
UID:13-1774966@friendlyavenue.com
DTSTART:20260730T013000Z
DTEND:20260730T023000Z
CLASS:PUBLIC
CREATED:20260422T201903
DESCRIPTION:Children in K–5th grade have the chance to grow in their fait
 h through Bible skills drills\, studying God’s Word together\, answering
  questions\, and sharing prayer time. Kids 5 and under learn Bible stories
 \, join in prayer\, and make hands-on crafts.
LAST-MODIFIED:20260422T201903
LOCATION:Kids Wing
SUMMARY:Wednesday Night Live
URL;VALUE=URI:https://www.friendlyavenue.com/events/wednesday-night-live/20
 26-07-29
ATTACH;FILENAME=unnamed-35.jpg;FMTTYPE=image/jpeg:https://dq5pwpg1q8ru0.clo
 udfront.net/2025/10/23/19/12/53/0d800718-3159-42c9-9db9-840cd55190c0/unnam
 ed-35.jpg
END:VEVENT
END:VCALENDAR
